BEGIN:VCALENDAR
VERSION:2.0
PRODID:-//Ramakrishna Mission Saradapitha - ECPv6.15.11//NONSGML v1.0//EN
CALSCALE:GREGORIAN
METHOD:PUBLISH
X-ORIGINAL-URL:https://saradapitha.org
X-WR-CALDESC:Events for Ramakrishna Mission Saradapitha
REFRESH-INTERVAL;VALUE=DURATION:PT1H
X-Robots-Tag:noindex
X-PUBLISHED-TTL:PT1H
BEGIN:VTIMEZONE
TZID:Asia/Kolkata
BEGIN:STANDARD
TZOFFSETFROM:+0530
TZOFFSETTO:+0530
TZNAME:IST
DTSTART:20250101T000000
END:STANDARD
END:VTIMEZONE
BEGIN:VEVENT
DTSTART;TZID=Asia/Kolkata:20260418T180000
DTEND;TZID=Asia/Kolkata:20260418T190000
DTSTAMP:20260420T114411
CREATED:20260331T080802Z
LAST-MODIFIED:20260331T080802Z
UID:4536-1776535200-1776538800@saradapitha.org
SUMMARY:Parivrajaka Vivekananda by Swami Urjitananda
DESCRIPTION:Talk based on the wandering days of Swami Vivekananda by Swami Urjitananda
URL:https://saradapitha.org/event/parivrajaka-vivekananda-by-swami-urjitananda/
LOCATION:Ramakrishna Mission Saradapitha – Mayermandir\, saradapitha\, Howrah\, West Bengal\, India
END:VEVENT
END:VCALENDAR