BEGIN:VCALENDAR
VERSION:2.0
PRODID:-//Ramakrishna Mission Saradapitha - ECPv6.15.11//NONSGML v1.0//EN
CALSCALE:GREGORIAN
METHOD:PUBLISH
X-WR-CALNAME:Ramakrishna Mission Saradapitha
X-ORIGINAL-URL:https://saradapitha.org
X-WR-CALDESC:Events for Ramakrishna Mission Saradapitha
REFRESH-INTERVAL;VALUE=DURATION:PT1H
X-Robots-Tag:noindex
X-PUBLISHED-TTL:PT1H
BEGIN:VTIMEZONE
TZID:Asia/Kolkata
BEGIN:STANDARD
TZOFFSETFROM:+0530
TZOFFSETTO:+0530
TZNAME:IST
DTSTART:20240101T000000
END:STANDARD
END:VTIMEZONE
BEGIN:VEVENT
DTSTART;TZID=Asia/Kolkata:20250816T170000
DTEND;TZID=Asia/Kolkata:20250816T180000
DTSTAMP:20260421T013103
CREATED:20250729T080238Z
LAST-MODIFIED:20250818T153837Z
UID:4092-1755363600-1755367200@saradapitha.org
SUMMARY:Shyam Nama (Sri Krishna Nama) Sankirtanam by Monks & Brahmacharins
DESCRIPTION:The singing of Shyam Nama (Sri Krishna Nama) Sankirtanam by the Monks and Brahmacharins of Saradapitha on the holy occasion of Krishna Janmashtami celebrating the birth of Sri Krishna from 5:00 PM to 6:00 PM at Mother’s Temple\, Saradapitha. \nShyam Nama Sankirtan Lyrics Devanagari \nShyam Nama Sankirtan Lyrics Transliterated in English \n 
URL:https://saradapitha.org/event/krishna-nama-sankirtanam-by-monks-brahmacharins/
LOCATION:Ramakrishna Mission Saradapitha – Mayermandir\, saradapitha\, Howrah\, West Bengal\, India
END:VEVENT
END:VCALENDAR