BEGIN:VCALENDAR
VERSION:2.0
PRODID:-//Ramakrishna Mission Saradapitha - ECPv6.15.11//NONSGML v1.0//EN
CALSCALE:GREGORIAN
METHOD:PUBLISH
X-WR-CALNAME:Ramakrishna Mission Saradapitha
X-ORIGINAL-URL:https://saradapitha.org
X-WR-CALDESC:Events for Ramakrishna Mission Saradapitha
REFRESH-INTERVAL;VALUE=DURATION:PT1H
X-Robots-Tag:noindex
X-PUBLISHED-TTL:PT1H
BEGIN:VTIMEZONE
TZID:Asia/Kolkata
BEGIN:STANDARD
TZOFFSETFROM:+0530
TZOFFSETTO:+0530
TZNAME:IST
DTSTART:20240101T000000
END:STANDARD
END:VTIMEZONE
BEGIN:VEVENT
DTSTART;TZID=Asia/Kolkata:20250719T180000
DTEND;TZID=Asia/Kolkata:20250719T190000
DTSTAMP:20260421T031852
CREATED:20250630T140713Z
LAST-MODIFIED:20250630T140713Z
UID:4070-1752948000-1752951600@saradapitha.org
SUMMARY:Sat Prasang by Swami Urjitananda
DESCRIPTION:Engaging talks based on the lives of Sri Ramakrishna\, Holy Mother Sri Sarada Devi\, and Swami Vivekananda which are full of profound spiritual insights\, practical wisdom\, and immense inspiration for devotees and seekers alike. \n 
URL:https://saradapitha.org/event/sat-prasang-by-swami-urjitananda/
LOCATION:Ramakrishna Mission Saradapitha – Mayermandir\, saradapitha\, Howrah\, West Bengal\, India
END:VEVENT
END:VCALENDAR