BEGIN:VCALENDAR
VERSION:2.0
PRODID:-//Ramakrishna Mission Saradapitha - ECPv6.15.11//NONSGML v1.0//EN
CALSCALE:GREGORIAN
METHOD:PUBLISH
X-ORIGINAL-URL:https://saradapitha.org
X-WR-CALDESC:Events for Ramakrishna Mission Saradapitha
REFRESH-INTERVAL;VALUE=DURATION:PT1H
X-Robots-Tag:noindex
X-PUBLISHED-TTL:PT1H
BEGIN:VTIMEZONE
TZID:Asia/Kolkata
BEGIN:STANDARD
TZOFFSETFROM:+0530
TZOFFSETTO:+0530
TZNAME:IST
DTSTART:20240101T000000
END:STANDARD
END:VTIMEZONE
BEGIN:VEVENT
DTSTART;TZID=Asia/Kolkata:20250702T180000
DTEND;TZID=Asia/Kolkata:20250702T190000
DTSTAMP:20260421T032241
CREATED:20250630T141244Z
LAST-MODIFIED:20250630T141244Z
UID:4056-1751479200-1751482800@saradapitha.org
SUMMARY:Swamijir Katha (স্বামীজীর কথা) by Swami Paradevatananda
DESCRIPTION:Swami Paradevatananda
URL:https://saradapitha.org/event/swamijir-katha-%e0%a6%b8%e0%a7%8d%e0%a6%ac%e0%a6%be%e0%a6%ae%e0%a7%80%e0%a6%9c%e0%a7%80%e0%a6%b0-%e0%a6%95%e0%a6%a5%e0%a6%be-by-swami-paradevatananda-4/
LOCATION:Ramakrishna Mission Saradapitha – Mayermandir\, saradapitha\, Howrah\, West Bengal\, India
END:VEVENT
END:VCALENDAR