BEGIN:VCALENDAR
VERSION:2.0
PRODID:-//Ramakrishna Mission Saradapitha - ECPv6.15.11//NONSGML v1.0//EN
CALSCALE:GREGORIAN
METHOD:PUBLISH
X-ORIGINAL-URL:https://saradapitha.org
X-WR-CALDESC:Events for Ramakrishna Mission Saradapitha
REFRESH-INTERVAL;VALUE=DURATION:PT1H
X-Robots-Tag:noindex
X-PUBLISHED-TTL:PT1H
BEGIN:VTIMEZONE
TZID:Asia/Kolkata
BEGIN:STANDARD
TZOFFSETFROM:+0530
TZOFFSETTO:+0530
TZNAME:IST
DTSTART:20240101T000000
END:STANDARD
END:VTIMEZONE
BEGIN:VEVENT
DTSTART;TZID=Asia/Kolkata:20250331T173000
DTEND;TZID=Asia/Kolkata:20250331T183000
DTSTAMP:20260421T050210
CREATED:20250303T051628Z
LAST-MODIFIED:20250303T051628Z
UID:3884-1743442200-1743445800@saradapitha.org
SUMMARY:Chaitanya Charitamrita by Swami Tattwasarananda
DESCRIPTION:The Chaitanya Charitamrita (Sanskrit: चैतन्यचरितामृत\, romanized: Caitanya-caritāmṛta; Bengali: চৈতন্যচরিতামৃত\, romanized: Côitônyôcôritamṛtô)\, composed by Krishnadasa Kaviraja in c. 1557\, is written in Bengali with a great number of Sanskrit verses in its devotional\, poetic construction\, including Shikshashtakam. It is one of the primary biographies detailing the life and teachings of Caitanya Mahāprabhu\, the founder of Gaudiya Vaishnavism. The stories of Chaitanya’s life are mixed with philosophical conversations detailing the process of Bhakti yoga\, with special attention given to congregational chanting of the names of Krishna. \n 
URL:https://saradapitha.org/event/chaitanya-charitamrita-by-swami-tattwasarananda-3/
LOCATION:Ramakrishna Mission Saradapitha – Mayermandir\, saradapitha\, Howrah\, West Bengal\, India
END:VEVENT
END:VCALENDAR