BEGIN:VCALENDAR
VERSION:2.0
PRODID:-//Ramakrishna Mission Saradapitha - ECPv6.15.11//NONSGML v1.0//EN
CALSCALE:GREGORIAN
METHOD:PUBLISH
X-ORIGINAL-URL:https://saradapitha.org
X-WR-CALDESC:Events for Ramakrishna Mission Saradapitha
REFRESH-INTERVAL;VALUE=DURATION:PT1H
X-Robots-Tag:noindex
X-PUBLISHED-TTL:PT1H
BEGIN:VTIMEZONE
TZID:Asia/Kolkata
BEGIN:STANDARD
TZOFFSETFROM:+0530
TZOFFSETTO:+0530
TZNAME:IST
DTSTART:20240101T000000
END:STANDARD
END:VTIMEZONE
BEGIN:VEVENT
DTSTART;TZID=Asia/Kolkata:20250201T173000
DTEND;TZID=Asia/Kolkata:20250201T183000
DTSTAMP:20260421T064610
CREATED:20250129T134037Z
LAST-MODIFIED:20250129T134037Z
UID:3291-1738431000-1738434600@saradapitha.org
SUMMARY:SatKatha by Revered Swami Divyananda
DESCRIPTION:Swami Divyananda is the Vice-President of Ramakrishna Math and Ramakrishna Mission. Swami Divyananda Maharaj joined Ramakrishna Mission in 1972. He did his post-graduation in physics and served RKM Vidyamandira\, Belur Math as Vice Principal and Vivekananda Centenary College\, Rahara\, as a Principal. He took classes for two decades\, served as secretary of Agartala\, Malda and Saradapitha RKM. He imparts orientation courses of University of Calcutta and Burdwan University. He has been motivating jail inmates of West Bengal for 18 years so that they can join the mainstream society.
URL:https://saradapitha.org/event/satkatha-by-revered-swami-divyananda-2/
LOCATION:Ramakrishna Mission Saradapitha – Mayermandir\, saradapitha\, Howrah\, West Bengal\, India
END:VEVENT
END:VCALENDAR