BEGIN:VCALENDAR
VERSION:2.0
PRODID:-//Ramakrishna Mission Saradapitha - ECPv6.15.11//NONSGML v1.0//EN
CALSCALE:GREGORIAN
METHOD:PUBLISH
X-WR-CALNAME:Ramakrishna Mission Saradapitha
X-ORIGINAL-URL:https://saradapitha.org
X-WR-CALDESC:Events for Ramakrishna Mission Saradapitha
REFRESH-INTERVAL;VALUE=DURATION:PT1H
X-Robots-Tag:noindex
X-PUBLISHED-TTL:PT1H
BEGIN:VTIMEZONE
TZID:Asia/Kolkata
BEGIN:STANDARD
TZOFFSETFROM:+0530
TZOFFSETTO:+0530
TZNAME:IST
DTSTART:20240101T000000
END:STANDARD
END:VTIMEZONE
BEGIN:VEVENT
DTSTART;TZID=Asia/Kolkata:20250120T173000
DTEND;TZID=Asia/Kolkata:20250120T183000
DTSTAMP:20260421T102239
CREATED:20241230T053603Z
LAST-MODIFIED:20241230T053603Z
UID:3253-1737394200-1737397800@saradapitha.org
SUMMARY:Kena Upanishad by Swami Atmapriyananda
DESCRIPTION:Swami Atmapriyananda is the Vice Chancellor of Ramakrishna Mission Vivekananda University\, a multi-campus University trying to actualize Swami Vivekananda’s educational vision and devoted to teaching and research in a variety of unique areas. Swami Atmapriyananda received his Ph.D. from the University of Madras\, India\, in Theoretical Physics. Inspired by Ramakrishna-Vivekananda ideology\, he joined the Ramakrishna Order of monks in 1978 and was posted at Ramakrishna Mission Vidyamandira\, a premier college of Ramakrishna Mission at Belur Math\, where he taught Physics for nearly 25 years besides serving in the academic administration of the college as Vice-Principal and Principal for 19 years. He took charge as Vice Chancellor of Ramakrishna Mission Vivekananda University on 4 July 2005.
URL:https://saradapitha.org/event/kena-upanishad-by-swami-atmapriyananda-2/
LOCATION:Ramakrishna Mission Saradapitha – Mayermandir\, saradapitha\, Howrah\, West Bengal\, India
END:VEVENT
END:VCALENDAR