BEGIN:VCALENDAR
VERSION:2.0
PRODID:-//Ramakrishna Mission Saradapitha - ECPv6.15.11//NONSGML v1.0//EN
CALSCALE:GREGORIAN
METHOD:PUBLISH
X-ORIGINAL-URL:https://saradapitha.org
X-WR-CALDESC:Events for Ramakrishna Mission Saradapitha
REFRESH-INTERVAL;VALUE=DURATION:PT1H
X-Robots-Tag:noindex
X-PUBLISHED-TTL:PT1H
BEGIN:VTIMEZONE
TZID:Asia/Kolkata
BEGIN:STANDARD
TZOFFSETFROM:+0530
TZOFFSETTO:+0530
TZNAME:IST
DTSTART:20240101T000000
END:STANDARD
END:VTIMEZONE
BEGIN:VEVENT
DTSTART;TZID=Asia/Kolkata:20250106T173000
DTEND;TZID=Asia/Kolkata:20250106T183000
DTSTAMP:20260421T101932
CREATED:20210407T070106Z
LAST-MODIFIED:20241230T052912Z
UID:1592-1736184600-1736188200@saradapitha.org
SUMMARY:Swamijir Katha (স্বামীজীর কথা) by Swami Paradevatananda
DESCRIPTION:Swami Paradevatananda
URL:https://saradapitha.org/event/sri-sri-mayer-katha-3/
LOCATION:Ramakrishna Mission Saradapitha – Mayermandir\, saradapitha\, Howrah\, West Bengal\, India
END:VEVENT
END:VCALENDAR