BEGIN:VCALENDAR
VERSION:2.0
PRODID:-//Ramakrishna Mission Saradapitha - ECPv6.15.11//NONSGML v1.0//EN
CALSCALE:GREGORIAN
METHOD:PUBLISH
X-WR-CALNAME:Ramakrishna Mission Saradapitha
X-ORIGINAL-URL:https://saradapitha.org
X-WR-CALDESC:Events for Ramakrishna Mission Saradapitha
REFRESH-INTERVAL;VALUE=DURATION:PT1H
X-Robots-Tag:noindex
X-PUBLISHED-TTL:PT1H
BEGIN:VTIMEZONE
TZID:Asia/Kolkata
BEGIN:STANDARD
TZOFFSETFROM:+0530
TZOFFSETTO:+0530
TZNAME:IST
DTSTART:20230101T000000
END:STANDARD
END:VTIMEZONE
BEGIN:VEVENT
DTSTART;TZID=Asia/Kolkata:20241230T173000
DTEND;TZID=Asia/Kolkata:20241230T183000
DTSTAMP:20260421T102238
CREATED:20241004T050126Z
LAST-MODIFIED:20241130T115958Z
UID:2759-1735579800-1735583400@saradapitha.org
SUMMARY:Ram Nam Sankirtanam by Monks & Brahmacharins
DESCRIPTION:  \n \n  \nThe singing of Ramnam Sankirtan in the centres of the Ramakrishna Order was started by none other than Swami Brahmananda. \nRama’s name is often chanted or sung within the many traditions of Hinduism. \nIn Mahabharata\, Shiva states that uttering “Rama” three times is equal to pronouncing the thousand other names of God. \n“Ram Naam Satya Hai” (transl. The name of Ram is the truth) is commonly chanted by Hindus while carrying a dead body to be cremated. This recitation implies that the dead body no longer sustains the truth (breath) which is Ram. \nRam Nam Sankirtanam Lyrics in Devanagari or Bengali or English — \nRam-Nam-Sankirtan-Devanagari          Ram-Nam-Sankirtan-Bengali \nRam-Nam-Sankirtan in English with Meaning
URL:https://saradapitha.org/event/ram-nam-sankirtanam-by-monks-brahmacharins-3/
LOCATION:Ramakrishna Mission Saradapitha – Mayermandir\, saradapitha\, Howrah\, West Bengal\, India
END:VEVENT
END:VCALENDAR