BEGIN:VCALENDAR
VERSION:2.0
PRODID:-//Ramakrishna Mission Saradapitha - ECPv6.15.11//NONSGML v1.0//EN
CALSCALE:GREGORIAN
METHOD:PUBLISH
X-WR-CALNAME:Ramakrishna Mission Saradapitha
X-ORIGINAL-URL:https://saradapitha.org
X-WR-CALDESC:Events for Ramakrishna Mission Saradapitha
REFRESH-INTERVAL;VALUE=DURATION:PT1H
X-Robots-Tag:noindex
X-PUBLISHED-TTL:PT1H
BEGIN:VTIMEZONE
TZID:Asia/Kolkata
BEGIN:STANDARD
TZOFFSETFROM:+0530
TZOFFSETTO:+0530
TZNAME:IST
DTSTART:20230101T000000
END:STANDARD
END:VTIMEZONE
BEGIN:VEVENT
DTSTART;TZID=Asia/Kolkata:20241215T173000
DTEND;TZID=Asia/Kolkata:20241215T183000
DTSTAMP:20260421T132243
CREATED:20230228T115246Z
LAST-MODIFIED:20241130T065044Z
UID:1974-1734283800-1734287400@saradapitha.org
SUMMARY:Ram Nama Sankirtanam by Monks & Brahmacharins
DESCRIPTION:  \n \nRama’s name is often chanted or sung within the many traditions of Hinduism. \nIn Mahabharata\, Shiva states that uttering “Rama” three times is equal to pronouncing the thousand other names of God. \n“Ram Naam Satya Hai” (transl. The name of Ram is the truth) is commonly chanted by Hindus while carrying a dead body to be cremated. This recitation implies that the dead body no longer sustains the truth (breath) which is Ram \nDownload Ram Nam Sankirtanam Lyrics in Devanagari or Bengali \nRam-Nam-Sankirtan-Devanagari            Ram-Nam-Sankirtan-Bengali
URL:https://saradapitha.org/event/ram-nam-sankirtanam-2/
LOCATION:Ramakrishna Mission Saradapitha – Mayermandir\, saradapitha\, Howrah\, West Bengal\, India
END:VEVENT
END:VCALENDAR