BEGIN:VCALENDAR
VERSION:2.0
PRODID:-//Ramakrishna Mission Saradapitha - ECPv6.15.11//NONSGML v1.0//EN
CALSCALE:GREGORIAN
METHOD:PUBLISH
X-WR-CALNAME:Ramakrishna Mission Saradapitha
X-ORIGINAL-URL:https://saradapitha.org
X-WR-CALDESC:Events for Ramakrishna Mission Saradapitha
REFRESH-INTERVAL;VALUE=DURATION:PT1H
X-Robots-Tag:noindex
X-PUBLISHED-TTL:PT1H
BEGIN:VTIMEZONE
TZID:Asia/Kolkata
BEGIN:STANDARD
TZOFFSETFROM:+0530
TZOFFSETTO:+0530
TZNAME:IST
DTSTART:20230101T000000
END:STANDARD
END:VTIMEZONE
BEGIN:VEVENT
DTSTART;TZID=Asia/Kolkata:20241117T100000
DTEND;TZID=Asia/Kolkata:20241117T123000
DTSTAMP:20260421T140435
CREATED:20241004T051103Z
LAST-MODIFIED:20241115T055926Z
UID:2763-1731837600-1731846600@saradapitha.org
SUMMARY:Sri Ramakrishna Bhavanuragi Sammelan Saradapitha 2024
DESCRIPTION:A gathering of devotees of Sri Ramakrishna –  attending Bhajans and Speeches of our venerable Monks of Ramakrishna Order on 17th November\, 2024. \nVenue: Vivekananda Sabhagriha\nRegistration Fee – Rs. 200\nNote – Event Registration available at Mayer Mandir Saradapitha. Breakfast and Noon meal will be included in the Registration fee.
URL:https://saradapitha.org/event/bhakta-sammelan/
LOCATION:Ramakrishna Mission Saradapitha – Mayermandir\, saradapitha\, Howrah\, West Bengal\, India
END:VEVENT
END:VCALENDAR