BEGIN:VCALENDAR
VERSION:2.0
PRODID:-//Ramakrishna Mission Saradapitha - ECPv6.15.11//NONSGML v1.0//EN
CALSCALE:GREGORIAN
METHOD:PUBLISH
X-ORIGINAL-URL:https://saradapitha.org
X-WR-CALDESC:Events for Ramakrishna Mission Saradapitha
REFRESH-INTERVAL;VALUE=DURATION:PT1H
X-Robots-Tag:noindex
X-PUBLISHED-TTL:PT1H
BEGIN:VTIMEZONE
TZID:Asia/Kolkata
BEGIN:STANDARD
TZOFFSETFROM:+0530
TZOFFSETTO:+0530
TZNAME:IST
DTSTART:20230101T000000
END:STANDARD
END:VTIMEZONE
BEGIN:VEVENT
DTSTART;TZID=Asia/Kolkata:20241110T033000
DTEND;TZID=Asia/Kolkata:20241110T233000
DTSTAMP:20260421T140542
CREATED:20240602T055850Z
LAST-MODIFIED:20240602T061043Z
UID:2366-1731209400-1731281400@saradapitha.org
SUMMARY:Shri Shri Jagaddhatri Puja 2024
DESCRIPTION:Shri Shri Jagaddhatri Puja 2024 \n \nThe worship of the Divine Mother SRI SRI JAGADDHATRI will be performed at Saradapitha\, Belur Math on 10th November 2024\, according to the Vishuddha Siddhanta almanac.
URL:https://saradapitha.org/event/2366/
END:VEVENT
END:VCALENDAR